BEGIN:VCALENDAR
VERSION:2.0
PRODID:http://www.weinco.at
METHOD:PUBLISH
BEGIN:VEVENT
UID:9328494eae1f7b446aeca7ed0a14a520@weinco.at
LOCATION:Kornstraße 14, 4060 Leonding
SUMMARY:Weingut Loimer
DESCRIPTION:
CLASS:PUBLIC
DTSTART:20231021T100000
DTSTAMP:20260421T213600
END:VEVENT
END:VCALENDAR
