BEGIN:VCALENDAR
VERSION:2.0
PRODID:http://www.weinco.at
METHOD:PUBLISH
BEGIN:VEVENT
UID:0d7b5623befd766b2653210459ca74fc@weinco.at
LOCATION:Dr. Adolf-Schärf-Str. 10 / Top 17, 3100 St. Pölten 
SUMMARY:Weingut Mantlerhof
DESCRIPTION:<p>Kommen Sie ab<strong> 13:00 Uhr</strong> in unsere <strong>WEIN &amp; CO Filiale St. Pölten </strong>und verkosten Sie das Line-Up des<strong> Weinguts Mantlerhof</strong>.</p>
CLASS:PUBLIC
DTSTART:20231209T130000
DTSTAMP:20260422T104700
END:VEVENT
END:VCALENDAR
