BEGIN:VCALENDAR
VERSION:2.0
PRODID:http://www.weinco.at
METHOD:PUBLISH
BEGIN:VEVENT
UID:b6b505ff2025d4dec937e9dfba52e4c2@weinco.at
LOCATION:Hans Dujsik-Allee 7 / Top 26, 2334 Vösendorf
SUMMARY:Weingut Markus Huber
DESCRIPTION:<p>Kommen Sie ab <strong>12:00 Uhr</strong>&nbsp;in unsere&nbsp;<strong>WEIN &amp; CO Filiale Vösendorf SCS </strong>und verkosten Sie das Line-up des&nbsp;<strong>Weinguts Markus Huber</strong>.</p>
CLASS:PUBLIC
DTSTART:20260612T120000
DTSTAMP:20260425T133200
END:VEVENT
END:VCALENDAR
