BEGIN:VCALENDAR
VERSION:2.0
PRODID:http://www.weinco.at
METHOD:PUBLISH
BEGIN:VEVENT
UID:2c64be033ef248652c62c6d1b27feecb@weinco.at
LOCATION:Universitätsring 12, 1010 Wien
SUMMARY:Weingut Markus Huber
DESCRIPTION:<p>Kommen Sie <strong>ab 17:00 Uhr</strong>&nbsp;in unsere&nbsp;<strong>WEIN &amp; CO Filiale Wien Schottentor </strong>und verkosten Sie das Line-up des <strong>Weinguts Markus Huber.</strong></p>
CLASS:PUBLIC
DTSTART:20261029T170000
DTSTAMP:20260426T014800
END:VEVENT
END:VCALENDAR
