BEGIN:VCALENDAR
VERSION:2.0
PRODID:http://www.weinco.at
METHOD:PUBLISH
BEGIN:VEVENT
UID:ec390e445f99f5d8c57a847f02552fbc@weinco.at
LOCATION:Getreidemarkt 1, 1060 Wien
SUMMARY:Weingut Netzl
DESCRIPTION:<p><span>Kommen Sie von&nbsp;</span><strong>15:00 bis 19:00 Uhr</strong><span>&nbsp;in unsere&nbsp;</span><span><strong>WEIN &amp; CO Filiale Wien Naschmarkt</strong>&nbsp;</span><span>und verkosten Sie das Line-up des <strong>Weinguts Netzl.</strong></span><span><br></span></p>
CLASS:PUBLIC
DTSTART:20240308T150000
DTSTAMP:20260420T034100
END:VEVENT
END:VCALENDAR
