BEGIN:VCALENDAR
VERSION:2.0
PRODID:http://www.weinco.at
METHOD:PUBLISH
BEGIN:VEVENT
UID:1ceeb04b184ee1c9424f81c8a96fd686@weinco.at
LOCATION:Universitätsring 12, 1010 Wien
SUMMARY:Weingut Netzl
DESCRIPTION:<p>Kommen Sie <strong>ab 17:00 Uhr</strong>&nbsp;in unsere&nbsp;<strong>WEIN &amp; CO Filiale Wien Schottentor </strong>und verkosten Sie das Line-up des <strong>Weinguts Netzl.</strong></p>
CLASS:PUBLIC
DTSTART:20261204T170000
DTSTAMP:20260425T132900
END:VEVENT
END:VCALENDAR
