BEGIN:VCALENDAR
VERSION:2.0
PRODID:http://www.weinco.at
METHOD:PUBLISH
BEGIN:VEVENT
UID:6e958d69ccac1ad04342b584042c3db5@weinco.at
LOCATION:Muthgasse 56-88, 1190 Wien
SUMMARY:Weingut Netzl
DESCRIPTION:<p>Kommen Sie zwischen <strong>14:00 und 18:00 Uhr</strong>&nbsp;in unsere&nbsp;<strong>WEIN &amp; CO Filiale Wien Muthgasse </strong>und verkosten Sie das Line-up des&nbsp;<strong>Weinguts Netzl.&nbsp;</strong></p>
CLASS:PUBLIC
DTSTART:20261211T140000
DTSTAMP:20260422T121100
END:VEVENT
END:VCALENDAR
