BEGIN:VCALENDAR
VERSION:2.0
PRODID:http://www.weinco.at
METHOD:PUBLISH
BEGIN:VEVENT
UID:7c2174131255d8e906a502237185a436@weinco.at
LOCATION:Hietzinger Hauptstraße 22, 1130 Wien
SUMMARY:Weingut Neumeister
DESCRIPTION:<p>Kommen Sie ab <strong>16:00&nbsp; Uhr</strong>&nbsp;in unsere&nbsp;<strong>WEIN &amp; CO Filiale Wien Hietzing </strong>und verkosten Sie das Line-up des&nbsp;<strong>Weinguts Neumeister.&nbsp;</strong></p>
CLASS:PUBLIC
DTSTART:20260528T170000
DTSTAMP:20260422T121200
END:VEVENT
END:VCALENDAR
