BEGIN:VCALENDAR
VERSION:2.0
PRODID:http://www.weinco.at
METHOD:PUBLISH
BEGIN:VEVENT
UID:a5ae76409740d5b7536719ff1d14cb1f@weinco.at
LOCATION:Seyringer Straße 6-8, 1210 Wien
SUMMARY:Weingut Nittnaus
DESCRIPTION:<p>Kommen Sie von&nbsp;<strong>13:00–17:00 Uhr</strong>&nbsp;in unsere&nbsp;<strong>WEIN &amp; CO Filiale Wien Nord</strong>&nbsp;und verkosten Sie das Line-up des&nbsp;<strong>Weinguts Nittnaus</strong>.</p>
CLASS:PUBLIC
DTSTART:20261120T130000
DTSTAMP:20260422T121100
END:VEVENT
END:VCALENDAR
