BEGIN:VCALENDAR
VERSION:2.0
PRODID:http://www.weinco.at
METHOD:PUBLISH
BEGIN:VEVENT
UID:89bdedf8c38bda669ba5aba697d7703b@weinco.at
LOCATION:Joanneumring 13, 8010 Graz
SUMMARY:Weingut Ott
DESCRIPTION:<p>Kommen Sie von&nbsp;<strong>15:00–18:00 Uhr</strong>&nbsp;in unsere&nbsp;<strong>WEIN &amp; CO Filiale Graz</strong>&nbsp;und verkosten Sie das Line-up des&nbsp;<strong>Weinguts Ott</strong>.</p>
CLASS:PUBLIC
DTSTART:20260612T150000
DTSTAMP:20260422T121100
END:VEVENT
END:VCALENDAR
