BEGIN:VCALENDAR
VERSION:2.0
PRODID:http://www.weinco.at
METHOD:PUBLISH
BEGIN:VEVENT
UID:abf57562806a737f3f8456b63b50f5ff@weinco.at
LOCATION:Kornstraße 14, 4060 Leonding
SUMMARY:Weingut Pia Strehn
DESCRIPTION:<p>Kommen Sie von&nbsp;<strong>10:00 – 16:00 Uhr</strong>&nbsp;in unsere&nbsp;<strong>WEIN &amp; CO Filiale Leonding </strong>und verkosten Sie das Line-up des&nbsp;<strong>Weinguts Pia Strehn.&nbsp;</strong></p>
CLASS:PUBLIC
DTSTART:20261219T100000
DTSTAMP:20260420T224000
END:VEVENT
END:VCALENDAR
