BEGIN:VCALENDAR
VERSION:2.0
PRODID:http://www.weinco.at
METHOD:PUBLISH
BEGIN:VEVENT
UID:36677a1d815d4528bebf89833d168f56@weinco.at
LOCATION:Wiener Str. 1, 5301 Eugendorf
SUMMARY:Weingut Pia Strehn
DESCRIPTION:<p>Kommen Sie von&nbsp;<strong>15:00 – 19:00 Uhr</strong>&nbsp;in unsere&nbsp;<strong>WEIN &amp; CO Filiale Eugendorf </strong>und verkosten Sie das Line-up des&nbsp;<strong>Weinguts Pia Strehn.&nbsp;</strong></p>
CLASS:PUBLIC
DTSTART:20260717T150000
DTSTAMP:20260420T224000
END:VEVENT
END:VCALENDAR
