BEGIN:VCALENDAR
VERSION:2.0
PRODID:http://www.weinco.at
METHOD:PUBLISH
BEGIN:VEVENT
UID:06c35f4da8a8d973fe3c611ec1fb7b49@weinco.at
LOCATION:Getreidemarkt 1, 1060 Wien
SUMMARY:Weingut Pöckl
DESCRIPTION:<p>Kommen Sie von <strong>15:00–19:00 Uhr</strong> in unsere <strong>WEIN &amp; CO Filiale Wien Naschmarkt </strong>und verkosten Sie das Line-up des <strong>Weinguts Pöckl</strong>.</p>
CLASS:PUBLIC
DTSTART:20240112T150000
DTSTAMP:20260420T034100
END:VEVENT
END:VCALENDAR
