BEGIN:VCALENDAR
VERSION:2.0
PRODID:http://www.weinco.at
METHOD:PUBLISH
BEGIN:VEVENT
UID:3a0cc05957ec30e262540e57b8a413ae@weinco.at
LOCATION:Getreidemarkt 1, 1060 Wien
SUMMARY:Weingut Prager
DESCRIPTION:<p>Kommen Sie von&nbsp;<strong>15:00–19:00 Uhr</strong>&nbsp;in unsere&nbsp;<strong>WEIN &amp; CO Filiale Wien Naschmarkt</strong>&nbsp;und verkosten Sie das Line-up des&nbsp;<strong>Weinguts Prager</strong>.</p>
CLASS:PUBLIC
DTSTART:20260613T150000
DTSTAMP:20260425T133200
END:VEVENT
END:VCALENDAR
