BEGIN:VCALENDAR
VERSION:2.0
PRODID:http://www.weinco.at
METHOD:PUBLISH
BEGIN:VEVENT
UID:4a86e0b353f9f27b4e0f00842a67eced@weinco.at
LOCATION:Universitätsring 12, 1010 Wien
SUMMARY:Weingut Rosi Schuster
DESCRIPTION:<p>Kommen Sie <strong>ab 15:00 Uhr</strong>&nbsp;in unsere&nbsp;<strong>WEIN &amp; CO Filiale Wien Schottentor </strong>und verkosten Sie das Line-up des <strong>Weinguts Schuster.</strong></p>
CLASS:PUBLIC
DTSTART:20260829T150000
DTSTAMP:20260419T202900
END:VEVENT
END:VCALENDAR
