BEGIN:VCALENDAR
VERSION:2.0
PRODID:http://www.weinco.at
METHOD:PUBLISH
BEGIN:VEVENT
UID:a2be3baee3bcf8792aab206b21ad7f69@weinco.at
LOCATION:Ekz Taborland, Kaserngasse 1, 4400 Steyr
SUMMARY:Weingut Salzl
DESCRIPTION:<p>Kommen Sie von&nbsp;<strong>13:00 – 18:00 Uhr</strong>&nbsp;in unsere&nbsp;<strong>WEIN &amp; CO Filiale Steyr</strong>&nbsp;und verkosten Sie das Line-up des&nbsp;<strong>Weinguts Salzl.&nbsp;</strong></p>
CLASS:PUBLIC
DTSTART:20261204T130000
DTSTAMP:20260420T223700
END:VEVENT
END:VCALENDAR
