BEGIN:VCALENDAR
VERSION:2.0
PRODID:http://www.weinco.at
METHOD:PUBLISH
BEGIN:VEVENT
UID:bd3b6d65837918be98d962d845a83737@weinco.at
LOCATION:Wiener Str. 1, 5301 Eugendorf
SUMMARY:Weingut Schneider
DESCRIPTION:<p>Kommen Sie von&nbsp;<strong>14:00 – 18:00 Uhr</strong>&nbsp;in unsere&nbsp;<strong>WEIN &amp; CO Filiale Eugendorf </strong>und verkosten Sie das Line-up des&nbsp;<strong>Weinguts Scheider.&nbsp;</strong></p>
CLASS:PUBLIC
DTSTART:20260731T140000
DTSTAMP:20260424T160300
END:VEVENT
END:VCALENDAR
