BEGIN:VCALENDAR
VERSION:2.0
PRODID:http://www.weinco.at
METHOD:PUBLISH
BEGIN:VEVENT
UID:f9d8a11e28de83af2f210a46dd624a64@weinco.at
LOCATION:Eduard-Bodem-Gasse 5-7, 6029 Innsbruck
SUMMARY:Weingut von Winning
DESCRIPTION:<p><span>Kommen Sie&nbsp;<strong>ab</strong></span><strong>&nbsp;14:00 Uhr</strong><span><strong>&nbsp;</strong>in unsere&nbsp;</span><span><strong>WEIN &amp; CO Filiale Innsbruck</strong>&nbsp;</span><span>und verkosten Sie das Line-Up des</span><span>&nbsp;<strong>Weinguts&nbsp;von Winning.</strong></span></p>
CLASS:PUBLIC
DTSTART:20240405T140000
DTSTAMP:20260421T114000
END:VEVENT
END:VCALENDAR
