BEGIN:VCALENDAR
VERSION:2.0
PRODID:http://www.weinco.at
METHOD:PUBLISH
BEGIN:VEVENT
UID:a401bed218424c069af5121745e2c46f@weinco.at
LOCATION:Johann Assl-Platz 1, 8501 Lieboch
SUMMARY:Weingut Wohlmuth
DESCRIPTION:<p>Kommen Sie von&nbsp;<strong>16:00–18:00 Uhr</strong>&nbsp;in unsere&nbsp;<strong>WEIN &amp; CO Filiale Graz-Lieboch</strong>&nbsp;und verkosten Sie das Line-up des&nbsp;<strong>Weinguts Wohlmuth</strong>.</p>
CLASS:PUBLIC
DTSTART:20260625T160000
DTSTAMP:20260423T112600
END:VEVENT
END:VCALENDAR
