BEGIN:VCALENDAR
VERSION:2.0
PRODID:http://www.weinco.at
METHOD:PUBLISH
BEGIN:VEVENT
UID:4e828ce64a721c868278f5cec8f0684e@weinco.at
LOCATION:Getreidemarkt 1, 1060 Wien
SUMMARY:Weinhof Waldschütz
DESCRIPTION:<p>Kommen Sie von&nbsp;<strong>15:00–19:00 Uhr</strong>&nbsp;in unsere&nbsp;<strong>WEIN &amp; CO Filiale Wien Naschmarkt</strong>&nbsp;und verkosten Sie das Line-up des&nbsp;<strong>Weinhofs Waldschütz</strong>.</p>
CLASS:PUBLIC
DTSTART:20260725T150000
DTSTAMP:20260421T002400
END:VEVENT
END:VCALENDAR
