BEGIN:VCALENDAR
VERSION:2.0
PRODID:http://www.weinco.at
METHOD:PUBLISH
BEGIN:VEVENT
UID:46bcb8f7477c1c33cf6dd9dd5c8045a3@weinco.at
LOCATION:Platzl 2, 5020 Salzburg
SUMMARY:Weißwein ABC
DESCRIPTION:
CLASS:PUBLIC
DTSTART:20220128T190000
DTSTAMP:20260420T102400
END:VEVENT
END:VCALENDAR
