BEGIN:VCALENDAR
VERSION:2.0
PRODID:http://www.weinco.at
METHOD:PUBLISH
BEGIN:VEVENT
UID:d023e85d1a1d023c26cf4f3ac281651f@weinco.at
LOCATION:Joanneumring 13, 8010 Graz
SUMMARY:Weißwein ABC
DESCRIPTION:
CLASS:PUBLIC
DTSTART:20240321T190000
DTSTAMP:20260420T033800
END:VEVENT
END:VCALENDAR
