BEGIN:VCALENDAR
VERSION:2.0
PRODID:http://www.weinco.at
METHOD:PUBLISH
BEGIN:VEVENT
UID:5b1e2ac88089bded4f4926a74b303bab@weinco.at
LOCATION:Mariahilfer Straße 36, 1070 Wien
SUMMARY:Weißwein ABC
DESCRIPTION:
CLASS:PUBLIC
DTSTART:20240320T201500
DTSTAMP:20260420T033900
END:VEVENT
END:VCALENDAR
