BEGIN:VCALENDAR
VERSION:2.0
PRODID:http://www.weinco.at
METHOD:PUBLISH
BEGIN:VEVENT
UID:0378944aa0da95a0e9bf1edcf0f447ee@weinco.at
LOCATION:Mariahilfer Straße 36, 1070 Wien
SUMMARY:Weißwein ABC
DESCRIPTION:
CLASS:PUBLIC
DTSTART:20240118T201500
DTSTAMP:20260420T033900
END:VEVENT
END:VCALENDAR
