BEGIN:VCALENDAR
VERSION:2.0
PRODID:http://www.weinco.at
METHOD:PUBLISH
BEGIN:VEVENT
UID:baa905e9af0bf1f9ad514661288b8da7@weinco.at
LOCATION:Landstraße 49 · Bismarckstraße 1, 4020 Linz
SUMMARY:Willi &amp; Willi - Verkostungstour
DESCRIPTION:<p>Die letzte Station aus 2021 wird nun nachgeholt und zwar im</p><p><strong>Josef Linz</strong>&nbsp;<br>Landstraße 49/ Bismarckstraße 1<br>4020 Linz</p><p>Verkostet werden an diesem Abend folgende Weine:&nbsp;</p><p style="background: #f5f1f1; padding: 20px; text-align: center;"><strong>Flights 2018 vs. 2019:&nbsp;<br><br><br>Château Bourgneuf · </strong>Château Bourgneuf 2018<strong><br>Château Bourgneuf · </strong>Château Bourgneuf 2019<br><strong><br>Château Canon la Gaffeliere · </strong>Château Canon la Gaffeliere 1er Grand Cru Classé B 2018<strong><br>JCP Maltus · </strong>Les Astéries Grand Cru 2019<br><strong><br>Château Haut Bailly · </strong>Château Haut Bailly Grand Cru Classé 2018<strong><br>Château Phélan Ségur · </strong>Château Phélan Ségur Cru Bourgeois 2019<br><strong><br>Château Grand Puy Lacoste · </strong>Château Grand Puy Lacoste 5ème Cru Classé 2018<strong><br>Château d’Armailhac · </strong>Château d’Armailhac 5ème Cru Classé 2019<strong><br><br>Château Lynch Bages · </strong>Château Lynch Bages 5ème Cru Classé 2018<strong><br>Château Léoville Poyferré · </strong>Château Leoville Poyferre 2ème Cru Classé 2019<strong><br><br>Château Cos d’Estournel · </strong>Château Cos d’Estournel 2ème Cru Classé 2018<strong><br>Château Cos d’Estournel · </strong>Château Cos d’Estournel 2ème Cru Classé 2019<strong><br><br>Château Pichon Lalande · </strong>Château Pichon Lalande 2ème Cru Classe 2018<strong><br>Château Pichon Lalande · </strong>Château Pichon Lalande Reserve de la Comtesse 2019<br><strong><br>Château Bélair Monange · </strong>Château Bélair Monange 1er Grand Cru Classé B 2018<strong><br>Château Trotanoy · </strong>Château Trotanoy 2019<strong><br><br>Château Pavie · </strong>Château Pavie 1er Grand Cru Classé A 2018<strong><br>JCP Maltus · </strong>Le Dôme Grand Cru 2019<strong><br><br><br></strong></p><p style="text-align: right;"><span style="font-size: small;">&nbsp;Änderungen vorbehalten.</span></p>
CLASS:PUBLIC
DTSTART:20220419T183000
DTSTAMP:20260423T020000
END:VEVENT
END:VCALENDAR
