BEGIN:VCALENDAR
VERSION:2.0
PRODID:http://www.weinco.at
METHOD:PUBLISH
BEGIN:VEVENT
UID:b618b4ddcc68e6ad3a4a62b467c91ad9@weinco.at
LOCATION:Jasomirgottstraße 3-5, 1010 Wien
SUMMARY:Willi &amp; Willi - Verkostungstour
DESCRIPTION:<p><strong>Willi Balanjuk</strong> und <strong>Willi Klinger</strong> laden zu dieser spannenden Verkostung in unserer WEIN &amp; CO Filiale am Stephansplatz ein!&nbsp;</p><p>Das <strong>Burgund</strong> ist bekannt für seine einzigartigen <strong>Chardonnays</strong> und <strong>Pinot Noirs</strong>. Weshalb Sie sich in dieser Willi &amp; Willi Verkostungstour Station auf großartige Weine der Region freuen können. Neben den klassischen Burgundersorten möchten wir Ihnen auch die Ausnahmeregion <strong>Beaujolais</strong> vorstellen. Denn nur hier konzentriert man sich anders als im restlichen Burgund auf die <strong>Gamay</strong> Traube, die Weine mit großer Fruchtigkeit und feiner Leichtigkeit hervorbringen.&nbsp;</p><p>&nbsp;</p><p>Genießen Sie an dem Abend nicht nur die Verkostung, sondern auch die Möglichkeit der -10 % auf die verkosteten Weine und dem gesamten Sortiment (ausgenommen Ikonen und Aktionspreise)!&nbsp;</p><p>&nbsp;</p><p>&nbsp;</p>
CLASS:PUBLIC
DTSTART:20220601T183000
DTSTAMP:20260423T015700
END:VEVENT
END:VCALENDAR
