BEGIN:VCALENDAR
VERSION:2.0
PRODID:http://www.weinco.at
METHOD:PUBLISH
BEGIN:VEVENT
UID:91a8651859745d25095a46fdda893cfa@weinco.at
LOCATION:Salurnerstraße 42, 6332 Kufstein
SUMMARY:Wine &amp; Snack
DESCRIPTION:<p>Ein Schluck Weltkulturerbe - Wachauer Weinfrühling in Kufstein. Freuen Sie sich auf einen Nachmittag im Zeichen von <strong>Grünem</strong> <strong>Veltliner</strong> und <strong>Riesling</strong>, begleitet von <strong>regionalen Spezialitäten</strong> aus der Wachau und Tirol.</p>
CLASS:PUBLIC
DTSTART:20260516T120000
DTSTAMP:20260422T032700
END:VEVENT
END:VCALENDAR
