BEGIN:VCALENDAR
VERSION:2.0
PRODID:http://www.weinco.at
METHOD:PUBLISH
BEGIN:VEVENT
UID:5e18b53804c5a18b0d727b0cd8aff97c@weinco.at
LOCATION:Salurnerstraße 42, 6332 Kufstein
SUMMARY:Wine &amp; Snack
DESCRIPTION:<p>An diesem Termin erwartet Sie ein genussvolles Zusammenspiel aus <strong>drei ausgewählten Aufstrichen</strong> aus unserem Sortiment und <strong>vier sorgfältig abgestimmten Weinen.</strong> Entdecken Sie, wie sich Aromen ergänzen, harmonieren und zu überraschenden <strong>Geschmackserlebnissen</strong> verschmelzen – perfekt für alle, die <strong>neue Kombinationen</strong> lieben und ihre Sinne verwöhnen möchten.</p>
CLASS:PUBLIC
DTSTART:20260801T120000
DTSTAMP:20260422T063800
END:VEVENT
END:VCALENDAR
