BEGIN:VCALENDAR
VERSION:2.0
PRODID:http://www.weinco.at
METHOD:PUBLISH
BEGIN:VEVENT
UID:388e1fde50eb5883ad7b020fdb42b250@weinco.at
LOCATION:Salurnerstraße 42, 6332 Kufstein
SUMMARY:Wine &amp; Snack
DESCRIPTION:<p>An diesem Termin erwartet Sie ein <strong>praxisnahes Einsteiger-Tasting</strong> zu <strong>Säure, Süße, Schärfe und Salz</strong>. <strong>Vier</strong> köstliche <strong>Delikatessen</strong> aus unserem Sortiment treffen auf <strong>acht</strong> spannende Weine, und Sie erleben live, wie unterschiedlichste Geschmackskombinationen zusammenpassen und neue Genussmomente entstehen.</p>
CLASS:PUBLIC
DTSTART:20261121T120000
DTSTAMP:20260422T050700
END:VEVENT
END:VCALENDAR
