BEGIN:VCALENDAR
VERSION:2.0
PRODID:http://www.weinco.at
METHOD:PUBLISH
BEGIN:VEVENT
UID:82da28cb17ab0b7adcdef72dacbc68ba@weinco.at
LOCATION:Dr. Adolf-Schärf-Str. 10 / Top 17, 3100 St. Pölten 
SUMMARY:Wine &amp; Snack
DESCRIPTION:<p>An diesem Termin erwartet Sie ein praxisnahes Einsteiger-Tasting zu <strong>Säure, Süße, Schärfe und Salz. Vier köstliche Delikatessen</strong> aus unserem Sortiment treffen auf <strong>acht spannende Weine</strong>, und Sie erleben live, wie unterschiedlichste Geschmackskombinationen zusammenpassen und neue Genussmomente entstehen.<br><br></p>
CLASS:PUBLIC
DTSTART:20260912T090000
DTSTAMP:20260422T050800
END:VEVENT
END:VCALENDAR
