BEGIN:VCALENDAR
VERSION:2.0
PRODID:http://www.weinco.at
METHOD:PUBLISH
BEGIN:VEVENT
UID:234bb0f6d31ccfa1f610bbfd3676db26@weinco.at
LOCATION:Jasomirgottstraße 3-5, 1010 Wien
SUMMARY:Winzer-Talente ABC 
DESCRIPTION:
CLASS:PUBLIC
DTSTART:20220603T190000
DTSTAMP:20260422T213400
END:VEVENT
END:VCALENDAR
