BEGIN:VCALENDAR
VERSION:2.0
PRODID:http://www.weinco.at
METHOD:PUBLISH
BEGIN:VEVENT
UID:a8fb991b9f4b68a5475513a61f02593c@weinco.at
LOCATION:Jasomirgottstraße 3-5, 1010 Wien
SUMMARY:Winzerinnen in Österreich 
DESCRIPTION:
CLASS:PUBLIC
DTSTART:20240308T190000
DTSTAMP:20260420T051500
END:VEVENT
END:VCALENDAR
